Package: betaHMM Version: 1.4.2 Command: /home/biocbuild/R/R/bin/R CMD INSTALL betaHMM StartedAt: 2025-10-13 20:30:50 -0000 (Mon, 13 Oct 2025) EndedAt: 2025-10-13 20:31:29 -0000 (Mon, 13 Oct 2025) EllapsedTime: 38.3 seconds RetCode: 0 Status: OK