Package: betaHMM Version: 1.4.2 Command: /home/biocbuild/R/R/bin/R CMD build --keep-empty-dirs --no-resave-data betaHMM StartedAt: 2025-10-13 22:58:20 -0000 (Mon, 13 Oct 2025) EndedAt: 2025-10-13 23:06:06 -0000 (Mon, 13 Oct 2025) EllapsedTime: 466.1 seconds RetCode: 0 Status: OK PackageFile: betaHMM_1.4.2.tar.gz PackageFileSize: 3.85 MiB