Package: benchdamic Version: 1.16.0 Command: /home/biocbuild/bbs-3.22-bioc/R/bin/R CMD build --keep-empty-dirs --no-resave-data --md5 benchdamic StartedAt: 2025-11-11 16:29:53 -0500 (Tue, 11 Nov 2025) EndedAt: 2025-11-11 16:52:33 -0500 (Tue, 11 Nov 2025) EllapsedTime: 1360.1 seconds RetCode: 0 Status: OK PackageFile: benchdamic_1.16.0.tar.gz PackageFileSize: 5.901 MiB