Package: benchdamic Version: 1.14.4 Command: /home/biocbuild/R/R/bin/R CMD INSTALL benchdamic StartedAt: 2025-10-13 20:45:39 -0000 (Mon, 13 Oct 2025) EndedAt: 2025-10-13 20:47:19 -0000 (Mon, 13 Oct 2025) EllapsedTime: 100.3 seconds RetCode: 0 Status: OK