Package: benchdamic Version: 1.14.4 Command: /home/biocbuild/R/R/bin/R CMD build --keep-empty-dirs --no-resave-data benchdamic StartedAt: 2025-10-13 22:57:19 -0000 (Mon, 13 Oct 2025) EndedAt: 2025-10-13 23:29:55 -0000 (Mon, 13 Oct 2025) EllapsedTime: 1956.5 seconds RetCode: 0 Status: OK PackageFile: benchdamic_1.14.4.tar.gz PackageFileSize: 5.238 MiB