Package: benchdamic Version: 1.16.0 Command: rm -rf benchdamic.buildbin-libdir && mkdir benchdamic.buildbin-libdir && /Users/biocbuild/BBS/utils/build-universal.sh benchdamic_1.16.0.tar.gz /Library/Frameworks/R.framework/Resources/bin/R benchdamic.buildbin-libdir StartedAt: 2025-11-06 22:57:04 -0500 (Thu, 06 Nov 2025) EndedAt: 2025-11-06 22:57:36 -0500 (Thu, 06 Nov 2025) EllapsedTime: 31.7 seconds RetCode: 0 Status: OK PackageFile: benchdamic_1.16.0.tgz PackageFileSize: 6.123 MiB