Package: beer Version: 1.14.1 Command: /home/biocbuild/bbs-3.22-bioc/R/bin/R CMD INSTALL beer StartedAt: 2025-11-17 18:09:58 -0500 (Mon, 17 Nov 2025) EndedAt: 2025-11-17 18:10:28 -0500 (Mon, 17 Nov 2025) EllapsedTime: 29.7 seconds RetCode: 0 Status: OK