Package: beer Version: 1.14.1 Command: /home/biocbuild/bbs-3.22-bioc/R/bin/R CMD build --keep-empty-dirs --no-resave-data --md5 beer StartedAt: 2025-11-17 19:41:13 -0500 (Mon, 17 Nov 2025) EndedAt: 2025-11-17 19:43:09 -0500 (Mon, 17 Nov 2025) EllapsedTime: 116.1 seconds RetCode: 0 Status: OK PackageFile: beer_1.14.1.tar.gz PackageFileSize: 646.3 KiB