Package: bedbaser Version: 1.2.0 Command: /Library/Frameworks/R.framework/Resources/bin/R CMD INSTALL bedbaser StartedAt: 2025-11-03 15:35:09 -0500 (Mon, 03 Nov 2025) EndedAt: 2025-11-03 15:35:16 -0500 (Mon, 03 Nov 2025) EllapsedTime: 7.3 seconds RetCode: 0 Status: OK