Package: bedbaser Version: 1.2.0 Command: rm -rf bedbaser.buildbin-libdir && mkdir bedbaser.buildbin-libdir && /Users/biocbuild/BBS/utils/build-universal.sh bedbaser_1.2.0.tar.gz /Library/Frameworks/R.framework/Resources/bin/R bedbaser.buildbin-libdir StartedAt: 2025-11-04 01:29:10 -0500 (Tue, 04 Nov 2025) EndedAt: 2025-11-04 01:29:20 -0500 (Tue, 04 Nov 2025) EllapsedTime: 10.2 seconds RetCode: 0 Status: OK PackageFile: bedbaser_1.2.0.tgz PackageFileSize: 311.6 KiB