Package: bedbaser Version: 1.0.4 Command: /home/biocbuild/R/R/bin/R CMD INSTALL bedbaser StartedAt: 2025-10-13 20:47:06 -0000 (Mon, 13 Oct 2025) EndedAt: 2025-10-13 20:47:13 -0000 (Mon, 13 Oct 2025) EllapsedTime: 6.7 seconds RetCode: 0 Status: OK