Package: bedbaser Version: 1.0.4 Command: /home/biocbuild/R/R/bin/R CMD build --keep-empty-dirs --no-resave-data bedbaser StartedAt: 2025-10-13 22:56:57 -0000 (Mon, 13 Oct 2025) EndedAt: 2025-10-13 22:59:36 -0000 (Mon, 13 Oct 2025) EllapsedTime: 159.0 seconds RetCode: 0 Status: OK PackageFile: bedbaser_1.0.4.tar.gz PackageFileSize: 277 KiB