Package: bedbaser Version: 1.0.0 Command: /Library/Frameworks/R.framework/Resources/bin/R CMD build --keep-empty-dirs --no-resave-data bedbaser StartedAt: 2025-04-21 15:42:40 -0400 (Mon, 21 Apr 2025) EndedAt: 2025-04-21 15:43:24 -0400 (Mon, 21 Apr 2025) EllapsedTime: 43.5 seconds RetCode: 0 Status: OK PackageFile: bedbaser_1.0.0.tar.gz PackageFileSize: 248.8 KiB