Package: bedbaser Version: 1.0.0 Command: rm -rf bedbaser.buildbin-libdir && mkdir bedbaser.buildbin-libdir && /Users/biocbuild/BBS/utils/build-universal.sh bedbaser_1.0.0.tar.gz /Library/Frameworks/R.framework/Resources/bin/R bedbaser.buildbin-libdir StartedAt: 2025-04-21 22:27:14 -0400 (Mon, 21 Apr 2025) EndedAt: 2025-04-21 22:27:17 -0400 (Mon, 21 Apr 2025) EllapsedTime: 3.1 seconds RetCode: 0 Status: OK PackageFile: bedbaser_1.0.0.tgz PackageFileSize: 307.2 KiB