Package: beadarray Version: 2.60.0 Command: /home/biocbuild/R/R/bin/R CMD INSTALL beadarray StartedAt: 2025-11-10 21:38:15 -0000 (Mon, 10 Nov 2025) EndedAt: 2025-11-10 21:38:53 -0000 (Mon, 10 Nov 2025) EllapsedTime: 38.0 seconds RetCode: 0 Status: OK