Package: beadarray Version: 2.60.0 Command: /home/biocbuild/R/R/bin/R CMD build --keep-empty-dirs --no-resave-data beadarray StartedAt: 2025-11-10 23:49:43 -0000 (Mon, 10 Nov 2025) EndedAt: 2025-11-10 23:53:10 -0000 (Mon, 10 Nov 2025) EllapsedTime: 207.0 seconds RetCode: 1 Status: ERROR PackageFile: None PackageFileSize: NA