Package: beadarray Version: 2.60.0 Command: /home/biocbuild/bbs-3.22-bioc/R/bin/R CMD INSTALL beadarray StartedAt: 2025-11-11 15:33:51 -0500 (Tue, 11 Nov 2025) EndedAt: 2025-11-11 15:34:17 -0500 (Tue, 11 Nov 2025) EllapsedTime: 26.9 seconds RetCode: 0 Status: OK