Package: beadarray Version: 2.60.0 Command: /home/biocbuild/bbs-3.22-bioc/R/bin/R CMD check --install=check:beadarray.install-out.txt --library=/home/biocbuild/bbs-3.22-bioc/R/site-library --timings beadarray_2.60.0.tar.gz StartedAt: 2025-11-11 21:31:03 -0500 (Tue, 11 Nov 2025) EndedAt: 2025-11-11 21:31:08 -0500 (Tue, 11 Nov 2025) EllapsedTime: 5.7 seconds RetCode: 1 Status: ERROR CheckDir: beadarray.Rcheck Warnings: NA