Package: beadarray Version: 2.60.0 Command: /home/biocbuild/bbs-3.22-bioc/R/bin/R CMD build --keep-empty-dirs --no-resave-data --md5 beadarray StartedAt: 2025-11-11 16:29:08 -0500 (Tue, 11 Nov 2025) EndedAt: 2025-11-11 16:31:52 -0500 (Tue, 11 Nov 2025) EllapsedTime: 164.1 seconds RetCode: 0 Status: OK PackageFile: beadarray_2.60.0.tar.gz PackageFileSize: 3.736 MiB