Back to Build/check report for BioC 3.22:   simplified   long
A[B]CDEFGHIJKLMNOPQRSTUVWXYZ

This page was generated on 2025-11-13 11:55 -0500 (Thu, 13 Nov 2025).

HostnameOSArch (*)R versionInstalled pkgs
taishanLinux (openEuler 24.03 LTS)aarch644.5.0 (2025-04-11) -- "How About a Twenty-Six" 4668
Click on any hostname to see more info about the system (e.g. compilers)      (*) as reported by 'uname -p', except on Windows and Mac OS X

All results for package beadarray


To the developers/maintainers of the beadarray package:
- Allow up to 24 hours (and sometimes 48 hours) for your latest push to git@git.bioconductor.org:packages/beadarray.git to reflect on this report. See Troubleshooting Build Report for more information.
- Use the following Renviron settings to reproduce errors and warnings.
- If 'R CMD check' started to fail recently on the Linux builder(s) over a missing dependency, add the missing dependency to 'Suggests:' in your DESCRIPTION file. See Renviron.bioc for more information.

raw results

Package 159/2361HostnameOS / ArchINSTALLBUILDCHECKBUILD BIN
beadarray 2.60.0  (landing page)
Mark Dunning
Snapshot Date: 2025-11-12 13:45 -0500 (Wed, 12 Nov 2025)
git_url: https://git.bioconductor.org/packages/beadarray
git_branch: RELEASE_3_22
git_last_commit: 7b5bb0d
git_last_commit_date: 2025-10-29 09:57:32 -0500 (Wed, 29 Oct 2025)
taishanLinux (openEuler 24.03 LTS) / aarch64  OK    ERROR  skipped



Results for Bioconductor software packages that depend directly on package beadarray

QUICK STATSOS / ArchINSTALLBUILDCHECKBUILD BIN
taishanLinux (openEuler 24.03 LTS) / aarch64
003
003
0003
Package 1/3HostnameOS / ArchINSTALLBUILDCHECKBUILD BIN
arrayQualityMetrics 3.66.0  (landing page)
Mike Smith
git_last_commit: 9561d9d
git_last_commit_date: 2025-10-29 09:59:44 -0500
taishanLinux (openEuler 24.03 LTS) / aarch64  OK    OK    OK  
Package 2/3HostnameOS / ArchINSTALLBUILDCHECKBUILD BIN
blima 1.44.0  (landing page)
Vojtěch Kulvait
git_last_commit: f7bd397
git_last_commit_date: 2025-10-29 10:19:34 -0500
taishanLinux (openEuler 24.03 LTS) / aarch64  OK    OK    OK  
Package 3/3HostnameOS / ArchINSTALLBUILDCHECKBUILD BIN
epigenomix 1.50.0  (landing page)
Hans-Ulrich Klein
git_last_commit: 3beb6cb
git_last_commit_date: 2025-10-29 10:13:59 -0500
taishanLinux (openEuler 24.03 LTS) / aarch64  OK    OK    OK