Package: beachmat Version: 2.26.0 Command: /home/biocbuild/bbs-3.22-bioc/R/bin/R CMD INSTALL beachmat StartedAt: 2025-11-14 15:17:19 -0500 (Fri, 14 Nov 2025) EndedAt: 2025-11-14 15:19:23 -0500 (Fri, 14 Nov 2025) EllapsedTime: 124.4 seconds RetCode: 0 Status: OK