Package: beachmat Version: 2.26.0 Command: /home/biocbuild/bbs-3.22-bioc/R/bin/R CMD build --keep-empty-dirs --no-resave-data --md5 beachmat StartedAt: 2025-11-14 16:26:29 -0500 (Fri, 14 Nov 2025) EndedAt: 2025-11-14 16:28:44 -0500 (Fri, 14 Nov 2025) EllapsedTime: 134.1 seconds RetCode: 0 Status: OK PackageFile: beachmat_2.26.0.tar.gz PackageFileSize: 374.1 KiB