Package: beachmat.hdf5 Version: 1.8.0 Command: /home/biocbuild/bbs-3.22-bioc/R/bin/R CMD INSTALL beachmat.hdf5 StartedAt: 2025-11-11 15:39:54 -0500 (Tue, 11 Nov 2025) EndedAt: 2025-11-11 15:41:05 -0500 (Tue, 11 Nov 2025) EllapsedTime: 71.0 seconds RetCode: 0 Status: OK