Package: beachmat.hdf5 Version: 1.8.0 Command: /home/biocbuild/bbs-3.22-bioc/R/bin/R CMD check --install=check:beachmat.hdf5.install-out.txt --library=/home/biocbuild/bbs-3.22-bioc/R/site-library --timings beachmat.hdf5_1.8.0.tar.gz StartedAt: 2025-11-14 21:30:32 -0500 (Fri, 14 Nov 2025) EndedAt: 2025-11-14 21:32:55 -0500 (Fri, 14 Nov 2025) EllapsedTime: 142.8 seconds RetCode: 0 Status: WARNINGS CheckDir: beachmat.hdf5.Rcheck Warnings: 1