Package: beachmat.hdf5 Version: 1.8.0 Command: /Library/Frameworks/R.framework/Resources/bin/R CMD INSTALL beachmat.hdf5 StartedAt: 2025-11-03 15:25:58 -0500 (Mon, 03 Nov 2025) EndedAt: 2025-11-03 15:27:11 -0500 (Mon, 03 Nov 2025) EllapsedTime: 72.6 seconds RetCode: 0 Status: OK