Package: beachmat.hdf5 Version: 1.8.0 Command: /Library/Frameworks/R.framework/Resources/bin/R CMD build --keep-empty-dirs --no-resave-data beachmat.hdf5 StartedAt: 2025-11-03 16:09:45 -0500 (Mon, 03 Nov 2025) EndedAt: 2025-11-03 16:11:05 -0500 (Mon, 03 Nov 2025) EllapsedTime: 79.8 seconds RetCode: 0 Status: OK PackageFile: beachmat.hdf5_1.8.0.tar.gz PackageFileSize: 297.2 KiB