Package: beachmat.hdf5 Version: 1.6.0 Command: /home/biocbuild/R/R/bin/R CMD INSTALL beachmat.hdf5 StartedAt: 2025-10-13 20:51:17 -0000 (Mon, 13 Oct 2025) EndedAt: 2025-10-13 20:52:56 -0000 (Mon, 13 Oct 2025) EllapsedTime: 99.6 seconds RetCode: 0 Status: OK