Package: beachmat.hdf5 Version: 1.6.0 Command: /home/biocbuild/R/R/bin/R CMD build --keep-empty-dirs --no-resave-data beachmat.hdf5 StartedAt: 2025-10-13 22:54:12 -0000 (Mon, 13 Oct 2025) EndedAt: 2025-10-13 22:55:52 -0000 (Mon, 13 Oct 2025) EllapsedTime: 100.0 seconds RetCode: 0 Status: OK PackageFile: beachmat.hdf5_1.6.0.tar.gz PackageFileSize: 362.1 KiB