Package: beachmat.hdf5 Version: 1.6.0 Command: /Library/Frameworks/R.framework/Resources/bin/R CMD INSTALL beachmat.hdf5 StartedAt: 2025-04-21 15:09:07 -0400 (Mon, 21 Apr 2025) EndedAt: 2025-04-21 15:09:26 -0400 (Mon, 21 Apr 2025) EllapsedTime: 18.1 seconds RetCode: 0 Status: OK