Package: bcSeq Version: 1.32.0 Command: /home/biocbuild/bbs-3.22-bioc/R/bin/R CMD check --install=check:bcSeq.install-out.txt --library=/home/biocbuild/bbs-3.22-bioc/R/site-library --timings bcSeq_1.32.0.tar.gz StartedAt: 2025-11-11 21:29:28 -0500 (Tue, 11 Nov 2025) EndedAt: 2025-11-11 21:31:08 -0500 (Tue, 11 Nov 2025) EllapsedTime: 100.9 seconds RetCode: 0 Status: WARNINGS CheckDir: bcSeq.Rcheck Warnings: 1