Package: bcSeq Version: 1.32.0 Command: /home/biocbuild/bbs-3.22-bioc/R/bin/R CMD build --keep-empty-dirs --no-resave-data --md5 bcSeq StartedAt: 2025-11-11 16:27:54 -0500 (Tue, 11 Nov 2025) EndedAt: 2025-11-11 16:28:43 -0500 (Tue, 11 Nov 2025) EllapsedTime: 49.0 seconds RetCode: 0 Status: OK PackageFile: bcSeq_1.32.0.tar.gz PackageFileSize: 242.1 KiB