Package: bcSeq Version: 1.30.0 Command: /home/biocbuild/bbs-3.21-bioc/R/bin/R CMD INSTALL bcSeq StartedAt: 2025-10-15 15:14:35 -0400 (Wed, 15 Oct 2025) EndedAt: 2025-10-15 15:15:09 -0400 (Wed, 15 Oct 2025) EllapsedTime: 33.6 seconds RetCode: 0 Status: OK