Package: bcSeq Version: 1.30.0 Command: rm -rf bcSeq.buildbin-libdir && mkdir bcSeq.buildbin-libdir && /Users/biocbuild/BBS/utils/build-universal.sh bcSeq_1.30.0.tar.gz /Library/Frameworks/R.framework/Resources/bin/R bcSeq.buildbin-libdir StartedAt: 2025-10-15 17:31:48 -0400 (Wed, 15 Oct 2025) EndedAt: 2025-10-15 17:32:30 -0400 (Wed, 15 Oct 2025) EllapsedTime: 41.7 seconds RetCode: 0 Status: OK PackageFile: bcSeq_1.30.0.tgz PackageFileSize: 350.2 KiB