Package: baySeq Version: 2.44.0 Command: /home/biocbuild/bbs-3.22-bioc/R/bin/R CMD check --install=check:baySeq.install-out.txt --library=/home/biocbuild/bbs-3.22-bioc/R/site-library --timings baySeq_2.44.0.tar.gz StartedAt: 2025-11-13 21:25:55 -0500 (Thu, 13 Nov 2025) EndedAt: 2025-11-13 21:34:48 -0500 (Thu, 13 Nov 2025) EllapsedTime: 533.1 seconds RetCode: 0 Status: OK CheckDir: baySeq.Rcheck Warnings: 0