Package: baySeq Version: 2.42.0 Command: /home/biocbuild/bbs-3.21-bioc/R/bin/R CMD build --keep-empty-dirs --no-resave-data baySeq StartedAt: 2025-10-15 16:18:33 -0400 (Wed, 15 Oct 2025) EndedAt: 2025-10-15 16:24:25 -0400 (Wed, 15 Oct 2025) EllapsedTime: 352.2 seconds RetCode: 0 Status: OK PackageFile: baySeq_2.42.0.tar.gz PackageFileSize: 1.125 MiB