Package: baySeq Version: 2.42.0 Command: /Library/Frameworks/R.framework/Resources/bin/R CMD INSTALL baySeq StartedAt: 2025-10-13 16:02:40 -0400 (Mon, 13 Oct 2025) EndedAt: 2025-10-13 16:02:59 -0400 (Mon, 13 Oct 2025) EllapsedTime: 19.3 seconds RetCode: 0 Status: OK