Package: baySeq Version: 2.42.0 Maintainer: Samuel Granjeaud MaintainerEmail: samuel.granjeaud at inserm.fr git_url: https://git.bioconductor.org/packages/baySeq git_branch: RELEASE_3_21 git_last_commit: 13f566e git_last_commit_date: 2025-04-15 13:32:52 -0400 (Tue, 15 Apr 2025)