Package: bayNorm Version: 1.28.0 Command: /home/biocbuild/bbs-3.22-bioc/R/bin/R CMD build --keep-empty-dirs --no-resave-data --md5 bayNorm StartedAt: 2025-11-11 16:26:44 -0500 (Tue, 11 Nov 2025) EndedAt: 2025-11-11 16:27:50 -0500 (Tue, 11 Nov 2025) EllapsedTime: 66.0 seconds RetCode: 0 Status: OK PackageFile: bayNorm_1.28.0.tar.gz PackageFileSize: 1.527 MiB