Package: bayNorm Version: 1.26.0 Command: /home/biocbuild/R/R/bin/R CMD INSTALL bayNorm StartedAt: 2025-10-13 20:32:03 -0000 (Mon, 13 Oct 2025) EndedAt: 2025-10-13 20:33:12 -0000 (Mon, 13 Oct 2025) EllapsedTime: 69.3 seconds RetCode: 0 Status: OK