Package: bayNorm Version: 1.28.0 Command: /Library/Frameworks/R.framework/Resources/bin/R CMD INSTALL bayNorm StartedAt: 2025-10-30 15:12:10 -0400 (Thu, 30 Oct 2025) EndedAt: 2025-10-30 15:12:25 -0400 (Thu, 30 Oct 2025) EllapsedTime: 15.5 seconds RetCode: 0 Status: OK