Package: bayNorm Version: 1.28.0 Command: /Library/Frameworks/R.framework/Resources/bin/R CMD build --keep-empty-dirs --no-resave-data bayNorm StartedAt: 2025-10-30 15:43:45 -0400 (Thu, 30 Oct 2025) EndedAt: 2025-10-30 15:44:09 -0400 (Thu, 30 Oct 2025) EllapsedTime: 24.3 seconds RetCode: 0 Status: OK PackageFile: bayNorm_1.28.0.tar.gz PackageFileSize: 1.526 MiB