Package: bayNorm Version: 1.28.0 Command: rm -rf bayNorm.buildbin-libdir && mkdir bayNorm.buildbin-libdir && /Users/biocbuild/BBS/utils/build-universal.sh bayNorm_1.28.0.tar.gz /Library/Frameworks/R.framework/Resources/bin/R bayNorm.buildbin-libdir StartedAt: 2025-10-31 22:58:53 -0400 (Fri, 31 Oct 2025) EndedAt: 2025-10-31 22:59:10 -0400 (Fri, 31 Oct 2025) EllapsedTime: 17.5 seconds RetCode: 0 Status: OK PackageFile: bayNorm_1.28.0.tgz PackageFileSize: 478.3 KiB