Package: batchelor Version: 1.26.0 Command: /home/biocbuild/bbs-3.22-bioc/R/bin/R CMD INSTALL batchelor StartedAt: 2025-11-11 15:59:11 -0500 (Tue, 11 Nov 2025) EndedAt: 2025-11-11 15:59:51 -0500 (Tue, 11 Nov 2025) EllapsedTime: 39.6 seconds RetCode: 0 Status: OK