Package: batchelor Version: 1.24.0 Command: /Library/Frameworks/R.framework/Resources/bin/R CMD build --keep-empty-dirs --no-resave-data batchelor StartedAt: 2025-04-21 16:00:23 -0400 (Mon, 21 Apr 2025) EndedAt: 2025-04-21 16:03:49 -0400 (Mon, 21 Apr 2025) EllapsedTime: 205.9 seconds RetCode: 0 Status: OK PackageFile: batchelor_1.24.0.tar.gz PackageFileSize: 2.055 MiB