Package: batchelor Version: 1.24.0 Command: rm -rf batchelor.buildbin-libdir && mkdir batchelor.buildbin-libdir && /Users/biocbuild/BBS/utils/build-universal.sh batchelor_1.24.0.tar.gz /Library/Frameworks/R.framework/Resources/bin/R batchelor.buildbin-libdir StartedAt: 2025-04-22 00:34:19 -0400 (Tue, 22 Apr 2025) EndedAt: 2025-04-22 00:35:19 -0400 (Tue, 22 Apr 2025) EllapsedTime: 60.6 seconds RetCode: 0 Status: OK PackageFile: batchelor_1.24.0.tgz PackageFileSize: 2.283 MiB