Package: batchelor Version: 1.24.0 Command: /Library/Frameworks/R.framework/Resources/bin/R CMD INSTALL batchelor StartedAt: 2025-10-13 18:11:10 -0400 (Mon, 13 Oct 2025) EndedAt: 2025-10-13 18:11:56 -0400 (Mon, 13 Oct 2025) EllapsedTime: 45.5 seconds RetCode: 0 Status: OK