Package: batchCorr Version: 1.0.0 Command: /home/biocbuild/R/R/bin/R CMD build --keep-empty-dirs --no-resave-data batchCorr StartedAt: 2025-11-13 23:40:27 -0000 (Thu, 13 Nov 2025) EndedAt: 2025-11-13 23:42:56 -0000 (Thu, 13 Nov 2025) EllapsedTime: 149.0 seconds RetCode: 0 Status: OK PackageFile: batchCorr_1.0.0.tar.gz PackageFileSize: 925.2 KiB