Package: batchCorr Version: 1.0.0 Command: /home/biocbuild/bbs-3.22-bioc/R/bin/R CMD INSTALL batchCorr StartedAt: 2025-11-11 15:25:35 -0500 (Tue, 11 Nov 2025) EndedAt: 2025-11-11 15:25:57 -0500 (Tue, 11 Nov 2025) EllapsedTime: 21.4 seconds RetCode: 0 Status: OK