Package: batchCorr Version: 1.0.0 Command: /home/biocbuild/bbs-3.22-bioc/R/bin/R CMD check --install=check:batchCorr.install-out.txt --library=/home/biocbuild/bbs-3.22-bioc/R/site-library --timings batchCorr_1.0.0.tar.gz StartedAt: 2025-11-11 21:25:29 -0500 (Tue, 11 Nov 2025) EndedAt: 2025-11-11 21:32:57 -0500 (Tue, 11 Nov 2025) EllapsedTime: 447.1 seconds RetCode: 0 Status: OK CheckDir: batchCorr.Rcheck Warnings: 0