Package: batchCorr Version: 1.0.0 Command: /home/biocbuild/bbs-3.22-bioc/R/bin/R CMD build --keep-empty-dirs --no-resave-data --md5 batchCorr StartedAt: 2025-11-11 16:25:43 -0500 (Tue, 11 Nov 2025) EndedAt: 2025-11-11 16:27:54 -0500 (Tue, 11 Nov 2025) EllapsedTime: 131.1 seconds RetCode: 0 Status: OK PackageFile: batchCorr_1.0.0.tar.gz PackageFileSize: 902.1 KiB